BEGIN:VCALENDAR
VERSION:2.0
PRODID:-//Bishop Auckland Town Council - ECPv6.15.19//NONSGML v1.0//EN
CALSCALE:GREGORIAN
METHOD:PUBLISH
X-WR-CALNAME:Bishop Auckland Town Council
X-ORIGINAL-URL:https://bishopauckland-tc.gov.uk
X-WR-CALDESC:Events for Bishop Auckland Town Council
REFRESH-INTERVAL;VALUE=DURATION:PT1H
X-Robots-Tag:noindex
X-PUBLISHED-TTL:PT1H
BEGIN:VTIMEZONE
TZID:Europe/London
BEGIN:DAYLIGHT
TZOFFSETFROM:+0000
TZOFFSETTO:+0100
TZNAME:BST
DTSTART:20250330T010000
END:DAYLIGHT
BEGIN:STANDARD
TZOFFSETFROM:+0100
TZOFFSETTO:+0000
TZNAME:GMT
DTSTART:20251026T010000
END:STANDARD
BEGIN:DAYLIGHT
TZOFFSETFROM:+0000
TZOFFSETTO:+0100
TZNAME:BST
DTSTART:20260329T010000
END:DAYLIGHT
BEGIN:STANDARD
TZOFFSETFROM:+0100
TZOFFSETTO:+0000
TZNAME:GMT
DTSTART:20261025T010000
END:STANDARD
BEGIN:DAYLIGHT
TZOFFSETFROM:+0000
TZOFFSETTO:+0100
TZNAME:BST
DTSTART:20270328T010000
END:DAYLIGHT
BEGIN:STANDARD
TZOFFSETFROM:+0100
TZOFFSETTO:+0000
TZNAME:GMT
DTSTART:20271031T010000
END:STANDARD
END:VTIMEZONE
BEGIN:VEVENT
DTSTART;TZID=Europe/London:20260203T183000
DTEND;TZID=Europe/London:20260203T193000
DTSTAMP:20260419T141654
CREATED:20250724T092002Z
LAST-MODIFIED:20260311T115117Z
UID:19398-1770143400-1770147000@bishopauckland-tc.gov.uk
SUMMARY:Community Committee
DESCRIPTION:The Next meeting of the Bishop Auckland Town Council Community Committee is to be held on Tuesday 3rd February 2026 at 6:30pm\, at the Town Council Offices\, 54 Kingsway\, Bishop Auckland. \nIt is requested that attendance needs to be registered with the Town Clerk prior to attending to ensure that the meeting space is large enough to accommodate everyone safely.  To register attendance please call 01388 207110 or email council@bishopauckland-tc.gov.uk by noon on Monday 2nd February 2026. \nThe Chairman advises members of the Council and the public that the meeting or part of the meeting may be recorded by audio and may be by video.
URL:https://bishopauckland-tc.gov.uk/event/community-committee-5/
LOCATION:Bishop Auckland Town Council\, 54 Kingsway\, Bishop Auckland\, England\, DL14 7JF\, United Kingdom
CATEGORIES:Community Committee
ATTACH;FMTTYPE=image/jpeg:https://bishopauckland-tc.gov.uk/wp-content/uploads/2018/03/council-menu-images-2.jpg
ORGANIZER;CN="Bishop Auckland Town Council (BATC)":MAILTO:council@bishopauckland-tc.gov.uk
END:VEVENT
END:VCALENDAR